BEGIN:VCALENDAR
VERSION:2.0
PRODID:-//Kreiselternausschuss Rhein-Hunsrück-Kreis - ECPv6.15.20//NONSGML v1.0//EN
CALSCALE:GREGORIAN
METHOD:PUBLISH
X-WR-CALNAME:Kreiselternausschuss Rhein-Hunsrück-Kreis
X-ORIGINAL-URL:https://kea-rhk.de
X-WR-CALDESC:Veranstaltungen für Kreiselternausschuss Rhein-Hunsrück-Kreis
REFRESH-INTERVAL;VALUE=DURATION:PT1H
X-Robots-Tag:noindex
X-PUBLISHED-TTL:PT1H
BEGIN:VTIMEZONE
TZID:Europe/Helsinki
BEGIN:DAYLIGHT
TZOFFSETFROM:+0200
TZOFFSETTO:+0300
TZNAME:EEST
DTSTART:20240331T010000
END:DAYLIGHT
BEGIN:STANDARD
TZOFFSETFROM:+0300
TZOFFSETTO:+0200
TZNAME:EET
DTSTART:20241027T010000
END:STANDARD
BEGIN:DAYLIGHT
TZOFFSETFROM:+0200
TZOFFSETTO:+0300
TZNAME:EEST
DTSTART:20250330T010000
END:DAYLIGHT
BEGIN:STANDARD
TZOFFSETFROM:+0300
TZOFFSETTO:+0200
TZNAME:EET
DTSTART:20251026T010000
END:STANDARD
BEGIN:DAYLIGHT
TZOFFSETFROM:+0200
TZOFFSETTO:+0300
TZNAME:EEST
DTSTART:20260329T010000
END:DAYLIGHT
BEGIN:STANDARD
TZOFFSETFROM:+0300
TZOFFSETTO:+0200
TZNAME:EET
DTSTART:20261025T010000
END:STANDARD
END:VTIMEZONE
BEGIN:VTIMEZONE
TZID:Europe/Berlin
BEGIN:DAYLIGHT
TZOFFSETFROM:+0100
TZOFFSETTO:+0200
TZNAME:CEST
DTSTART:20240331T010000
END:DAYLIGHT
BEGIN:STANDARD
TZOFFSETFROM:+0200
TZOFFSETTO:+0100
TZNAME:CET
DTSTART:20241027T010000
END:STANDARD
BEGIN:DAYLIGHT
TZOFFSETFROM:+0100
TZOFFSETTO:+0200
TZNAME:CEST
DTSTART:20250330T010000
END:DAYLIGHT
BEGIN:STANDARD
TZOFFSETFROM:+0200
TZOFFSETTO:+0100
TZNAME:CET
DTSTART:20251026T010000
END:STANDARD
BEGIN:DAYLIGHT
TZOFFSETFROM:+0100
TZOFFSETTO:+0200
TZNAME:CEST
DTSTART:20260329T010000
END:DAYLIGHT
BEGIN:STANDARD
TZOFFSETFROM:+0200
TZOFFSETTO:+0100
TZNAME:CET
DTSTART:20261025T010000
END:STANDARD
END:VTIMEZONE
BEGIN:VEVENT
DTSTART;TZID=Europe/Helsinki:20250812T100000
DTEND;TZID=Europe/Helsinki:20250812T110000
DTSTAMP:20260426T014252
CREATED:20250224T140006Z
LAST-MODIFIED:20250617T195835Z
UID:1223-1754992800-1754996400@kea-rhk.de
SUMMARY:Online Meeting Maßnahmenplan und Notbetreuung - Lösungsansatz
DESCRIPTION:
URL:https://kea-rhk.de/event/online-meeting-massnahmenplan-und-notbetreuung-loesungsansatz-2/
END:VEVENT
BEGIN:VEVENT
DTSTART;TZID=Europe/Berlin:20250812T200000
DTEND;TZID=Europe/Berlin:20250812T210000
DTSTAMP:20260426T014252
CREATED:20250224T135325Z
LAST-MODIFIED:20250617T195939Z
UID:1214-1755028800-1755032400@kea-rhk.de
SUMMARY:Online Meeting Maßnahmenplan und Notbetreuung - Lösungsansatz
DESCRIPTION:
URL:https://kea-rhk.de/event/online-meeting-massnahmenplan-und-notbetreuung-loesungsansatz/
ORGANIZER;CN="Kreiselternausschuss Rhein-Hunsr%C3%BCck-Kreis":MAILTO:kontakt@kea-rhk.de
END:VEVENT
END:VCALENDAR