BEGIN:VCALENDAR
VERSION:2.0
PRODID:-//Kreiselternausschuss Rhein-Hunsrück-Kreis - ECPv6.15.20//NONSGML v1.0//EN
CALSCALE:GREGORIAN
METHOD:PUBLISH
X-ORIGINAL-URL:https://kea-rhk.de
X-WR-CALDESC:Veranstaltungen für Kreiselternausschuss Rhein-Hunsrück-Kreis
REFRESH-INTERVAL;VALUE=DURATION:PT1H
X-Robots-Tag:noindex
X-PUBLISHED-TTL:PT1H
BEGIN:VTIMEZONE
TZID:Europe/Helsinki
BEGIN:DAYLIGHT
TZOFFSETFROM:+0200
TZOFFSETTO:+0300
TZNAME:EEST
DTSTART:20240331T010000
END:DAYLIGHT
BEGIN:STANDARD
TZOFFSETFROM:+0300
TZOFFSETTO:+0200
TZNAME:EET
DTSTART:20241027T010000
END:STANDARD
BEGIN:DAYLIGHT
TZOFFSETFROM:+0200
TZOFFSETTO:+0300
TZNAME:EEST
DTSTART:20250330T010000
END:DAYLIGHT
BEGIN:STANDARD
TZOFFSETFROM:+0300
TZOFFSETTO:+0200
TZNAME:EET
DTSTART:20251026T010000
END:STANDARD
BEGIN:DAYLIGHT
TZOFFSETFROM:+0200
TZOFFSETTO:+0300
TZNAME:EEST
DTSTART:20260329T010000
END:DAYLIGHT
BEGIN:STANDARD
TZOFFSETFROM:+0300
TZOFFSETTO:+0200
TZNAME:EET
DTSTART:20261025T010000
END:STANDARD
END:VTIMEZONE
BEGIN:VEVENT
DTSTART;TZID=Europe/Helsinki:20250919T100000
DTEND;TZID=Europe/Helsinki:20250919T113000
DTSTAMP:20260426T000352
CREATED:20250829T131309Z
LAST-MODIFIED:20250901T144306Z
UID:1595-1758276000-1758281400@kea-rhk.de
SUMMARY:Elternausschuss - Aufgabenbereiche & Handlungsfelder
DESCRIPTION:
URL:https://kea-rhk.de/event/elternausschusses-aufgabenbereiche-handlungsfelder/
ORGANIZER;CN="Kreiselternausschuss Rhein-Hunsr%C3%BCck-Kreis":MAILTO:kontakt@kea-rhk.de
END:VEVENT
BEGIN:VEVENT
DTSTART;TZID=Europe/Helsinki:20250919T200000
DTEND;TZID=Europe/Helsinki:20250919T213000
DTSTAMP:20260426T000352
CREATED:20250829T131416Z
LAST-MODIFIED:20250901T144248Z
UID:1597-1758312000-1758317400@kea-rhk.de
SUMMARY:Elternausschuss - Aufgabenbereiche & Handlungsfelder
DESCRIPTION:
URL:https://kea-rhk.de/event/elternausschusses-aufgabenbereiche-handlungsfelder-2/
ORGANIZER;CN="Kreiselternausschuss Rhein-Hunsr%C3%BCck-Kreis":MAILTO:kontakt@kea-rhk.de
END:VEVENT
END:VCALENDAR