BEGIN:VCALENDAR
VERSION:2.0
PRODID:-//Kreiselternausschuss Rhein-Hunsrück-Kreis - ECPv6.15.20//NONSGML v1.0//EN
CALSCALE:GREGORIAN
METHOD:PUBLISH
X-WR-CALNAME:Kreiselternausschuss Rhein-Hunsrück-Kreis
X-ORIGINAL-URL:https://kea-rhk.de
X-WR-CALDESC:Veranstaltungen für Kreiselternausschuss Rhein-Hunsrück-Kreis
REFRESH-INTERVAL;VALUE=DURATION:PT1H
X-Robots-Tag:noindex
X-PUBLISHED-TTL:PT1H
BEGIN:VTIMEZONE
TZID:Europe/Helsinki
BEGIN:DAYLIGHT
TZOFFSETFROM:+0200
TZOFFSETTO:+0300
TZNAME:EEST
DTSTART:20240331T010000
END:DAYLIGHT
BEGIN:STANDARD
TZOFFSETFROM:+0300
TZOFFSETTO:+0200
TZNAME:EET
DTSTART:20241027T010000
END:STANDARD
BEGIN:DAYLIGHT
TZOFFSETFROM:+0200
TZOFFSETTO:+0300
TZNAME:EEST
DTSTART:20250330T010000
END:DAYLIGHT
BEGIN:STANDARD
TZOFFSETFROM:+0300
TZOFFSETTO:+0200
TZNAME:EET
DTSTART:20251026T010000
END:STANDARD
BEGIN:DAYLIGHT
TZOFFSETFROM:+0200
TZOFFSETTO:+0300
TZNAME:EEST
DTSTART:20260329T010000
END:DAYLIGHT
BEGIN:STANDARD
TZOFFSETFROM:+0300
TZOFFSETTO:+0200
TZNAME:EET
DTSTART:20261025T010000
END:STANDARD
END:VTIMEZONE
BEGIN:VEVENT
DTSTART;TZID=Europe/Helsinki:20250709T100000
DTEND;TZID=Europe/Helsinki:20250709T110000
DTSTAMP:20260426T014249
CREATED:20250318T123902Z
LAST-MODIFIED:20250617T195156Z
UID:1245-1752055200-1752058800@kea-rhk.de
SUMMARY:Online Meeting Maßnahmenplan und Notbetreuung - Lösungsansatz
DESCRIPTION:
URL:https://kea-rhk.de/event/online-meeting-massnahmenplan-und-notbetreuung-loesungsansatz-4/
END:VEVENT
BEGIN:VEVENT
DTSTART;TZID=Europe/Helsinki:20250709T200000
DTEND;TZID=Europe/Helsinki:20250709T210000
DTSTAMP:20260426T014249
CREATED:20250318T123715Z
LAST-MODIFIED:20250617T195532Z
UID:1243-1752091200-1752094800@kea-rhk.de
SUMMARY:Online Meeting Maßnahmenplan und Notbetreuung - Lösungsansatz
DESCRIPTION:
URL:https://kea-rhk.de/event/online-meeting-massnahmenplan-und-notbetreuung-loesungsansatz-3/
END:VEVENT
END:VCALENDAR